Workbook

Sheet 1
A1: Школа | B1: МОБУ СОШ д. Саитовский | E1: Отд./корп | I1: День | J1: 44456
A3: Прием пищи | B3: Раздел | C3: № рец. | D3: Блюдо | E3: Выход, г | F3: Цена | G3: Калорийность | H3: Белки | I3: Жиры | J3: Углеводы
A4: =[1]Лист1!A68 -> завтрак: | B4: =[1]Лист1!B68 -> 0 | C4: =[1]Лист1!C68 -> 5 | D4: =[1]Лист1!D68 -> Салат из белокочанной капусты | E4: =[1]Лист1!E68 -> 60 | F4: =[1]Лист1!F68 -> 0 | G4: =[1]Лист1!G68 -> 56.64 | H4: =[1]Лист1!H68 -> 1.26 | ... J4: =[1]Лист1!J68 -> 6.18
A5: =[1]Лист1!A69 -> 0 | B5: =[1]Лист1!B69 -> гор.блюдо | C5: =[1]Лист1!C69 -> 121 | D5: =[1]Лист1!D69 -> Плов из отварной говядины | E5: =[1]Лист1!E69 -> 180 | F5: =[1]Лист1!F69 -> 0 | G5: =[1]Лист1!G69 -> 373.5 | H5: =[1]Лист1!H69 -> 13.32 | ... J5: =[1]Лист1!J69 -> 43.11
A6: =[1]Лист1!A70 -> 0 | B6: =[1]Лист1!B70 -> гор.напиток | C6: =[1]Лист1!C70 -> 287.01 | D6: =[1]Лист1!D70 -> Чай с молоком | E6: =[1]Лист1!E70 -> 200 | F6: =[1]Лист1!F70 -> 0 | G6: =[1]Лист1!G70 -> 59 | H6: =[1]Лист1!H70 -> 0.1 | ... J6: =[1]Лист1!J70 -> 0.02
A7: =[1]Лист1!A71 -> 0 | B7: =[1]Лист1!B71 -> хлеб | C7: =[1]Лист1!C71 -> 327 | D7: =[1]Лист1!D71 -> Хлеб пшеничный витаминизированный обогащенный | E7: =[1]Лист1!E71 -> 50 | F7: =[1]Лист1!F71 -> 0 | G7: =[1]Лист1!G71 -> 140 | H7: =[1]Лист1!H71 -> 5.5 | ... J7: =[1]Лист1!J71 -> 27.5
A8: =[1]Лист1!A72 -> 0 | B8: =[1]Лист1!B72 -> 0 | C8: =[1]Лист1!C72 -> 0 | D8: =[1]Лист1!D72 -> 0 | E8: =[1]Лист1!E72 -> 510 | F8: =[1]Лист1!F72 -> 0 | G8: =[1]Лист1!G72 -> 629.14 | H8: =[1]Лист1!H72 -> 20.18 | ... J8: =[1]Лист1!J72 -> 76.81
A9: =[1]Лист1!A73 -> Итого : | B9: =[1]Лист1!B73 -> 0 | C9: =[1]Лист1!C73 -> 0 | D9: =[1]Лист1!D73 -> 0 | E9: =[1]Лист1!E73 -> 0 | F9: =[1]Лист1!F73 -> 57.43 | G9: =[1]Лист1!G73 -> 0 | H9: =[1]Лист1!H73 -> 0 | ... J9: =[1]Лист1!J73 -> 0
A12: Обед | B12: закуска
B13: 1 блюдо
B14: 2 блюдо
B15: гарнир
B16: сладкое
B17: хлеб бел.
B18: хлеб черн.
